BEGIN:VCALENDAR
VERSION:2.0
PRODID:-//Chios Society of Baltimore - ECPv6.15.13.1//NONSGML v1.0//EN
CALSCALE:GREGORIAN
METHOD:PUBLISH
X-ORIGINAL-URL:http://chiossocietyofbaltimore.com
X-WR-CALDESC:Events for Chios Society of Baltimore
REFRESH-INTERVAL;VALUE=DURATION:PT1H
X-Robots-Tag:noindex
X-PUBLISHED-TTL:PT1H
BEGIN:VTIMEZONE
TZID:America/New_York
BEGIN:DAYLIGHT
TZOFFSETFROM:-0500
TZOFFSETTO:-0400
TZNAME:EDT
DTSTART:20230312T070000
END:DAYLIGHT
BEGIN:STANDARD
TZOFFSETFROM:-0400
TZOFFSETTO:-0500
TZNAME:EST
DTSTART:20231105T060000
END:STANDARD
BEGIN:DAYLIGHT
TZOFFSETFROM:-0500
TZOFFSETTO:-0400
TZNAME:EDT
DTSTART:20240310T070000
END:DAYLIGHT
BEGIN:STANDARD
TZOFFSETFROM:-0400
TZOFFSETTO:-0500
TZNAME:EST
DTSTART:20241103T060000
END:STANDARD
BEGIN:DAYLIGHT
TZOFFSETFROM:-0500
TZOFFSETTO:-0400
TZNAME:EDT
DTSTART:20250309T070000
END:DAYLIGHT
BEGIN:STANDARD
TZOFFSETFROM:-0400
TZOFFSETTO:-0500
TZNAME:EST
DTSTART:20251102T060000
END:STANDARD
END:VTIMEZONE
BEGIN:VEVENT
DTSTART;VALUE=DATE:20240129
DTEND;VALUE=DATE:20241014
DTSTAMP:20260420T113302
CREATED:20240129T073348Z
LAST-MODIFIED:20240225T191307Z
UID:247-1706486400-1728863999@chiossocietyofbaltimore.com
SUMMARY:67th National Chian Convention in Washington D.C.
DESCRIPTION:The Chios Society of Greater Washington DC\nwill host the 67th National Chian Convention in Washington D.C.\nfrom October 11-13\, 2024 at\nJW Marriott in Washington DC\n\nThis hotel is located within walking distance\nof the White House and the Smithsonian National Museums \n\nPlease stay tuned for more information
URL:http://chiossocietyofbaltimore.com/event/67th-national-chian-convention-in-washington-d-c
LOCATION:JW Marriott\, 1331 Pennsylvania Avenue NW\, Washington\, DC\, 20004\, United States
CATEGORIES:National Event
END:VEVENT
END:VCALENDAR